Workbook

Sheet Presentación
A1: Sistema Integrado de Gestión | D1: PLAN | N1: Codigo: PL01-PR02-GGE
D2: PLAN DE GESTIÓN Y RESULTADOS | N2: Versión: 01
N3: Noviembre de 2024

Sheet Historial de cambios
A1: Sistema Integrado de Gestión | D1: PLAN | N1: Codigo: PL01-PR02-GGE
D2: PLAN DE GESTIÓN Y RESULTADOS | N2: Versión: 01
N3: Noviembre de 2024
G6: HISTORIAL DE CAMBIOS
C8: VERSIÓN | E8: DESCRIPCIÓN DEL CAMBIO | I8: MOTIVO DEL CAMBIO | M8: FECHA DE ACTUALIZACIÓN
C10: 1 | E10: Creación del formato | M10: Noviembre de 2025

Sheet Tabla de contenido
A1: Sistema Integrado de Gestión | D1: PLAN | N1: Codigo: PL01-PR02-GGE
D2: PLAN DE GESTIÓN Y RESULTADOS | N2: Versión: 01
N3: Noviembre de 2024

Sheet 1.Propósito
A1: Sistema Integrado de Gestión | D1: PLAN | N1: Codigo: PL01-PR02-GGE
D2: PLAN DE GESTIÓN Y RESULTADOS | N2: Versión: 01
N3: Noviembre de 2024

Sheet 2.Alcance
A1: Sistema Integrado de Gestión | D1: PLAN | N1: Codigo: PL01-PR02-GGE
D2: PLAN DE GESTIÓN Y RESULTADOS | N2: Versión: 01
N3: Noviembre de 2024

Sheet 3. Contexto 
A1: Sistema Integrado de Gestión | D1: PLAN | N1: Codigo: PL01-PR02-GGE
D2: PLAN DE GESTIÓN Y RESULTADOS | N2: Versión: 01
N3: Noviembre de 2024

Sheet 4. Plataforma estratégica
A1: Sistema Integrado de Gestión | D1: PLAN | N1: Codigo: PL01-PR02-GGE
D2: PLAN DE GESTIÓN Y RESULTADOS | N2: Versión: 01
N3: Noviembre de 2024

Sheet 5. Objetivos estratégicos
A1: Sistema Integrado de Gestión | D1: PLAN | N1: Codigo: PL01-PR02-GGE
D2: PLAN DE GESTIÓN Y RESULTADOS | N2: Versión: 01
N3: Noviembre de 2024
E8: DÓNDE DECIDIMOS LLEGAR:

Sheet 6. Interrelación de objetivos
A1: Sistema Integrado de Gestión | D1: PLAN | N1: Codigo: PL01-PR02-GGE
D2: PLAN DE GESTIÓN Y RESULTADOS | N2: Versión: 01
N3: Noviembre de 2024
E9: Cómo alineamos nuestros objetivos

Sheet 7. Objetivos y metas
A11: Son logros que esperamos alcanzar
A13: OBJETIVOS ESTRATÉGICOS | B13: NOMBRE DEL INDICADOR | C13: FORMA DE CÁLCULO | D13: METAS
D14: 2025 | E14: 2026 | F14: 2027 | G14: 2028
A15: FORTALECER LA SOSTENBILIDAD ECONOMICA | B15: Razon corriente | C15: Activo /Pasivo corriente | D15: > = 1.96 Veces | E15: > = 1.96 Veces | F15: > = 1.96 Veces | G15: > = 1.96 Veces | H15: 1
B16: Rotación cuentas por pagar | C16: (Cuentas por pagar/ Costos de Ventas) *365 | D16: <= 20.59 dias | E16: <= 20.59 dias | F16: <= 20.59 dias | G16: <= 20.59 dias | H16: 2
B17: Rotación cuentas por cobrar | C17: Cuentas por cobrar/ Ingresos Operacionales) *365 | D17: <= 46.35 dias | E17: <= 46.35 dias | F17: <= 46.35 dias | G17: <= 46.35 dias | H17: 3
B18: Margen Operacional | C18: (EBITDA/ Ingresos Operacionales) *100 | D18: <37.40% | E18: <37.40% | F18: <37.40% | G18: <37.40%
B19: Cubrimiento de gastos financieros | C19: Cubrimiento de gastos financiero (EBITDA/Gastos financieros) | D19: < 21.01 veces | E19: < 21.01 veces | F19: < 21.01 veces | G19: < 21.01 veces
B20: Recaudo de Aseo | C20: Valor del recaudo de Aseo/Valor facturación Aseo) *100 | D20: >85% | E20: >85% | F20: >85% | G20: >85%
B21: Perdida de Energía | C21: 1- ( Kw/h mes comercializados/ Kw/h mes generados | D21: <= 10% | E21: <= 10% | F21: <= 10% | G21: <= 10%
A22: FORTALECER LAS COMPETENCIAS DEL CAPITAL HUMANO. | B22: Programa de Capacitación | C22: (N° de capacitaciones Realizadas/ N° Capacitaciones programadas) *100 | D22: 1 | E22: 1 | F22: 1 | G22: 1
B23: Programa de Inducción/Reinducción | C23: (N° de trabajadores con inducción/Reinducción/ N° total de trabajadores) | D23: 1 | E23: 1 | F23: 1 | G23: 1
A24: MEJORAR EL POSICIONAMIENTO DE EMELCE A NIVEL NACIONAL | B24: Relación suscriptores sin medición | C24: Suscriptores sin medición/ Suscriptores totales) *100 | D24: 0 | E24: 0 | F24: 0 | G24: 0
B25: Atención reclamo servicios | C25: (Usuarios afectados /Total de usuarios) *100 | D25: <0,71% | E25: <0,71% | F25: <0,71% | G25: <0,71%
B26: Oportunidad de Atención a las PQRS | C26: (N° de PQRS Resueltas en dias /N° Total de PQRS Recibidas) *100 | D26: <= 15 dias habiles | E26: <= 15 dias habiles | F26: <= 15 dias habiles | G26: <= 15 dias habiles
B27: Relación reclamos de facturación (10,000) | C27: Reclamos de facturación/ Facturas expedidas) *10.000 | D27: <24.91 % | E27: <24.91 % | F27: <24.91 % | G27: <24.91 %
B28: Atención solicitud conexión | C28: (Usuarios afectados/ Total usuarios) *100 | D28: > 15 dias habiles | E28: > 15 dias habiles | F28: >15 dias habiles | G28: > 15 dias habiles
B29: Oportunidad a la respuesta de la solicitud de factibilidad del servicio | C29: (Usuarios afectados/ Total usuarios) *100 | D29: > 7 dias habiles | E29: > 7 dias habiles | F29: > 7 dias habiles | G29: > 7 dias habiles
B30: Cumplimiento de las Revisiones por consumos anormales | C30: (Revisiones realizadas /revisiones programadas) * 100 | D30: 1 | E30: 1 | F30: 1 | G30: 1
A31: FORTALECER LA PLANEACIÓN Y EJECUCIÓN DE LAS INVERSIONES. | B31: Cumplimiento del programa de Mantenimiento de redes eléctricas | C31: (N° Manteamientos Realizados /N° Mantenimientos Programados) *100 | D31: 1 | E31: 1 | F31: 1 | G31: 1

Sheet 8. lineamiento de indi
A11: 1. Fortalecer la sostenbibilidad económica.
A13: No | B13: NOMBRE DEL INDICADOR | C13: DESCRIPCIÓN DEL INDICADOR | D13: RESPONSABLE DE PRESENTAR INFORMES | E13: PERIODICIDAD DE CÁLCULO | F13: PERIODICIDAD DE REPORTE | G13: VARIBLES QUE INTERVIENEN EN EL CÁLCULO | H13: FORMA DE CÁLCULO | I13: FUENTE DE INFORMACIÓN | J13: NORMATIVIDAD
A14: 1 | B14: Razon corriente (veces) | C14: Indica el cubrimiento que tiene la empresa de sus obligaciones de corto plazo. | D14: Lider contable y financiero. | E14: TrImestral | F14: Trimestral | G14: Efectivo y equivalentes de efectivo (caja, bancos). Inversiones temporales. Cuentas por cobrar (clientes). Inventarios. Gastos pagados por anticipado. | H14: Activo /Pasivo corriente | I14: https://gestornormativo.creg.gov.co/gestor/entorno/docs/resolucion_creg_0034_2004.htm | J14: Resolución creg 034 de 20204.
A15: 2 | B15: Rotación cuentas por pagar (dias) | C15: Este indicador mide la gestión de la empresa en el pago oportuno de los insumos necesarios. | D15: Lider contable y financiero. | E15: TrImestral | F15: Trimestral | G15: Compras Totales a Proveedores-Promedio de Cuentas por Paga | H15: (Cuentas por pagar/ Costos de Ventas) *365 | I15: https://gestornormativo.creg.gov.co/gestor/entorno/docs/resolucion_creg_0034_2004.htm | J15: Resolución creg 034 de 20204.
A16: 3 | B16: Rotación cuentas por cobrar (dias) | C16: Este indicador mide la gestión realizada por la empresa para el cobro efectivo de los servicios prestados. | D16: Lider contable y financiero. | E16: TrImestral | F16: Trimestral | G16: Ventas a crédito netas-Promedio de cuentas por cobrar | H16: Cuentas por cobrar/ Ingresos Operacionales) *365 | I16: https://gestornormativo.creg.gov.co/gestor/entorno/docs/resolucion_creg_0034_2004.htm | J16: Resolución creg 034 de 20204.
A17: 4 | B17: Margen Operacional (%) | C17: EBITDA corresponde a la utilidad antes de intereses, impuestos, depreciaciones, amortizaciones y resultados no operacionales(Earnign Before Interest, Taxes,Depreciatión, Amortización) | D17: Lider contable y financiero. | E17: TrImestral | F17: Trimestral | G17: Ingresos operativos-Gastos operativos-Costos de los bienes vendidos-Gastos administrativos-Precios | H17: Cubrimiento de gastos financiero (EBITDA/Gastos financieros) | I17: https://gestornormativo.creg.gov.co/gestor/entorno/docs/resolucion_creg_0034_2004.htm | J17: Resolución creg 034 de 20204.
A18: 5 | B18: Cubrimiento de gastos financieros | C18: Informa sobre la capacidad de generación de fondos por parte de la empresa para el pago de los gastos financieros | D18: Lider contable y financiero. | E18: Trimestral | F18: Trimestral | G18: Ingresos Totales-Costos Fijos-Costos Variables | H18: Cubrimiento de gastos financiero (EBITDA/Gastos financieros) | I18: https://gestornormativo.creg.gov.co/gestor/entorno/docs/resolucion_creg_0034_2004.htm | J18: Resolución creg 034 de 20204.
A19: 6 | B19: Recaudo de pagos Aseo | C19: Actividad que comprende la recepción y control de pagos por los servicios y otros conceptos relacionados con los mismos, que se realicen en cajas de la persona prestadora concedente o de las entidades designadas para tal fin. | D19: Lider administrativo y comercialización | E19: Mensual | F19: Trimestral. | H19: Valor del recaudo de Aseo/Valor facturación Aseo) *100 | I19: https://www.alcaldiabogota.gov.co/sisjur/normas/Norma1.jsp?i=19990 | J19: Resolución CRA 151 de 2001.
A20: 7 | B20: Perdida de Energía | C20: Es la energía perdida en un Sistema de Distribución y reconocida por la Comisión de Regulación de Energía y Gas, para el caso de las zonas no interconectadas el indicador eficiente es =< 10% | D20: Lider administrativo y comercialización | E20: Mensual | F20: Trimestral. | G20: Energia generada. Energia comercializada. | H20: (Total Kwh Comercializado s Emelce/ Total Kwh generados GENSA) *100 | I20: https://gestornormativo.creg.gov.co/gestor/entorno/docs/resolucion_creg_0091_2007.htm | J20: Resolución creg 091 de 2007.
A21: 2. Fortalecer las competencias del capital humano.
A22: No | B22: NOMBRE DEL INDICADOR | C22: DESCRIPCIÓN DEL INDICADOR | D22: RESPONSABLE DE PRESENTAR INFORMES | E22: PERIODICIDAD DE CÁLCULO | F22: PERIODICIDAD DE REPORTE | G22: VARIBLES QUE INTERVIENEN EN EL CÁLCULO | H22: FORMA DE CÁLCULO | I22: FUENTE DE INFORMACIÓN | J22: NORMATIVIDAD
A23: 8 | B23: Programa de Capacitación | C23: Este indicador permite medir porcentualmente el grado de cumplimiento del plan de capacitaciones de la empresa. | D23: Lider administrativo y comercialización | E23: Mensual | F23: Trimestal. | G23: Numero de capacitaciones realizadas- numero de capacitaciones planeadas. | H23: (N° de capacitaciones Realizadas/ N° Capacitaciones programadas) *100 | J23: Decisión empresarial No GG-20241000001795 (02 de julio de 2024)
A24: 9 | B24: Programa de Inducción/Reinducción | C24: Este indicador permite medir porcentualmente el la ejecución del programa de inducción/reinducción de la empresa. | D24: Lider administrativo y comercialización | E24: Mensual | F24: Trimestal. | G24: Numero de colaboradores que ingresan a la empresa- numero de colaboradores de la empresa. | H24: (N° de trabajadores con inducción/Reinducción/ N° total de trabajadores) | I24: https://www.emelcesa.com/copy-4-of-caracterizacion-gd-4-1-3 | J24: SIG
A27: 3. Mejorar el posionamiento de EMELCE a nivel nacional.
A28: No | B28: NOMBRE DEL INDICADOR | C28: DESCRIPCIÓN DEL INDICADOR | D28: RESPONSABLE DE PRESENTAR INFORMES | E28: PERIODICIDAD DE CÁLCULO | F28: PERIODICIDAD DE REPORTE | G28: VARIBLES QUE INTERVIENEN EN EL CÁLCULO | H28: FORMA DE CÁLCULO | I28: FUENTE DE INFORMACIÓN | J28: NORMATIVIDAD
A29: 10 | B29: Relación suscriptores sin medición | C29: Este indicador mide porcentualmente el numero de suscriptores sin sistemas de medición, es aplicable a las empresas comercializadoras | D29: Lider administrativo y comercialización | E29: Mensual | F29: Trimestral | G29: Suscriptores. | H29: Suscriptores sin medición/ Suscriptores totales) *100 | I29: https://gestornormativo.creg.gov.co/gestor/entorno/docs/resolucion_creg_0034_2004.htm | J29: Resolución creg 034 de 20204.
A30: 11 | B30: Atención reclamo servicios | C30: Este indicador mide el porcentaje de usuarios al que se le atiende su reclamo en un número de dias superior al "tiempo referencia" | D30: Lider administrativo y comercialización | E30: Mensual | F30: Trimestral | G30: Tiempo de resolución, tiempo de referencia | H30: (Usuarios afectados /Total de usuarios) *100 | I30: https://gestornormativo.creg.gov.co/gestor/entorno/docs/resolucion_creg_0034_2004.htm | J30: Resolución creg 034 de 20204.
A31: 12 | B31: Oportunidad de Atención a las PQRS | C31: Este indicador mide la oportunidad de respuestas en dias de las PQRS | D31: Lider administrativo y comercialización | E31: Mensual | F31: Trimestral | G31: Tiempo de referencia, No de PQRS | H31: (N° de PQRS Resueltas en dias /N° Total de PQRS Recibidas) *100 | J31: SIG
A32: 13 | B32: Relación reclamos de facturación (10,000) | C32: Se contabiliza unicamente los reclamos resueltos a favor del suscriptor, para el caso de los comercializadores, o a favor de quien presenta el reclamo, si se trata de las otras actividades de la cadena. | D32: Lider administrativo y comercialización | E32: Mensual | F32: Trimestral | G32: Reclamos resueltos a favor del cliente-Número de facturas emitidas- Factor de escala (10,000 | H32: Reclamos de facturación/ Facturas expedidas) *10.000 | I32: https://gestornormativo.creg.gov.co/gestor/entorno/docs/resolucion_creg_0034_2004.htm | J32: Resolución creg 034 de 20204.
A33: 14 | B33: Atención solicitud conexión(100%) | C33: Este indicador mide el porcentaje de usuarios a quienes se les atiende la solicitud de conexión en un numero de dias superior al tiempo de referencia. | D33: Lider de Generación y distribución. | E33: Mensual | F33: Trimestral | G33: Numero de solicitudes de conexión- tiempo de referencia, numero de respuestas superior al tiempo de referencia. | H33: (Usuarios afectados/ Total usuarios) *100 | I33: https://gestornormativo.creg.gov.co/gestor/entorno/docs/resolucion_creg_0034_2004.htm | J33: Resolución creg 034 de 20204.
A34: 15 | B34: Oportunidad a la respuesta de la solicitud de factibilidad del servicio | C34: Este indicador mide el porcentaje de usuarios a quienes se les atiende la solicitud de factibilidad en un numero de dias superior al tiempo de referencia. | D34: Lider de Generación y distribución. | E34: Mensual | F34: Trimestral | G34: Numero de solicitudes de factibilidad- tiempo de referencia, numero de respuestas superior al tiempo de referencia. | H34: (Usuarios afectados/ Total usuarios) *100 | I34: https://gestornormativo.creg.gov.co/gestor/entorno/docs/resolucion_creg_0070_1998.htm | J34: Resolución creg No 070 de 1998.
A35: 16 | B35: Cumplimiento de las Revisiones por consumos anormales. | C35: Este indicador mide el porcentaje de revisiones atendidas en un numero de dias superior al tiempo de referencia. | D35: Lider de Generación y distribución. | E35: Mensual | F35: Trimestral | G35: Numero de consumos anormales, tiempo de referencia, numero de revisiones atendidas superior al tiempo de referencia. | H35: (Usuarios afectados/ Total usuarios) *100 | I35: https://www.emelcesa.com/normatividad
A37: 4. Fortalecer la planeación y ejecución de las innversiones
A38: No | B38: NOMBRE DEL INDICADOR | C38: DESCRIPCIÓN DEL INDICADOR | D38: RESPONSABLE DE PRESENTAR INFORMES | E38: PERIODICIDAD DE CÁLCULO | F38: PERIODICIDAD DE REPORTE | G38: VARIBLES QUE INTERVIENEN EN EL CÁLCULO | H38: FORMA DE CÁLCULO | I38: FUENTE DE INFORMACIÓN | J38: NORMATIVIDAD
A39: 17 | B39: Cumplimiento del programa de Mantenimiento de redes eléctricas | C39: Este indicador mide el procentaje en el cumplimiento de las actividades de mantenimiento programadas. | D39: Lider de Generación y distribución. | E39: Mensual | F39: Trimestral | G39: Plan de mantenimientos | H39: (N° Manteamientos Realizados /N° Mantenimientos Programados) *100 | J39: Plan de mantenimiento EMELCE S.A.,E.S.P.

Sheet 9. DOFA
A1: Sistema Integrado de Gestión | D1: PLAN | L1: Codigo: PL01-PR02-GGE
D2: PLAN DE GESTIÓN Y RESULTADOS | L2: Versión: 01
L3: Noviembre de 2024
A7: ANALISIS FACTORES INTERNOS
A8: No | B8: FORTALEZAS | G8: No | H8: DEBIDILIDADES
A9: 1 | B9: Infraestructura en generación y distribucion de energia ya establecida en el mercado de EMELCE S.A.,E.S.P. | G9: 1 | H9: No existe claridad en las funciones por partes de los empleados
A10: 2 | B10: Conocimiento profundo de las necesidades especificas en energia en el mercado de EMELCE S.A,.E.SP. | G10: 2 | H10: Dependencia del diesel
A11: 3 | B11: Servicio constante y confiable en los dos municipios del mercado de EMELCE S.A.,E.S.P. | G11: 3 | H11: No existe una estrategia corporativa para gestión documental (archivo) de acuerdo con las normas reglamentarias.
A12: 4 | B12: Produccion de energia renovable | G12: 4 | H12: Deficiencias en la calidad del servicio.
A13: 5 | B13: Experiencia en zonas no interconectadas | G13: 5 | H13: Limitación en recursos tecnicos y financieros
A14: 6 | B14: Perdidas de energia inferiores al maximo establecido por la CREG. | G14: 6 | H14: No se cuenta con metodos de evaluación de competencia de los colaboradores
A15: 7 | B15: Liderazgo regional consolidado | G15: 7 | H15: Se debe fortalecer la identiifcacion de la propiedad planta y equipo
A16: 8 | B16: Estructura organizacional | G16: 8 | H16: Falencia en la comunicación interna cuando se presentan ajustes, cambios en procedimientos, procesos e informacion transversal entre areas.
A17: 9 | B17: Propietario de infraestructura electrica | G17: 9 | H17: Deficiencias en la seguridad del sofware, en especial en el modulo de facturación, software de nomina deficiente
A18: 10 | B18: Alto nivel de recaudo en los dos municipios del mercado. | G18: 10 | H18: Planeación de las inversiones.
A19: 11 | B19: Compromiso del personal | G19: 11 | H19: Deficiencia en la actualización y manejo de activos electricos
A20: 12 | B20: Baja rotación del personal, estabilidad laboral. | G20: 12 | H20: No se ha establecido la metodologia o mecanismo para medir el clima laboral de la empresa.
... A29: 21 | B29: La buena relación e imagen de la Empresa con las entidades nacionales, relacionadas con el sector. | G29: 21 | H29: Baja disponibilidad de recursos humanos,logísticos económicos para realizar el evantamiento de insumos (información de campo para la formulación de proyectos.
A32: ANALISIS FACTORES EXTERNOS
A33: No | B33: AMENAZAS | G33: No | H33: OPORTUNIDADES
A34: 1 | B34: Cambio climatico | G34: 1 | H34: Incentivos Gubernamentales
A35: 2 | B35: Politicas energeticas cambiantes | G35: 2 | H35: Concienta ambiental
A36: 3 | B36: Competencia en el sector energetico | G36: 3 | H36: Avances tecnolgicos en energia
A37: 4 | B37: Inestabilidad economica | G37: 4 | H37: Desarrollo de nuevos mercados
A38: 5 | B38: Desarrollo Tecnológico rápido | G38: 5 | H38: Alianzas estrategicas
A39: 6 | B39: Falta de capacidad instalada para respaldar la demanda de energia, en las actividades de generación. | G39: 6 | H39: Desarrollo tecnológico
A40: 7 | B40: Alta dispersion de los usarios, en zonas rurales | G40: 7 | H40: Potencial del energia solar en la zona del mercado de EMELCE S.A.,E.S.P.
A41: 8 | B41: Baja capacidad adqusitiva usuarios dispersos ( comunidades indigenas) | G41: 8 | H41: Poca capacidad instalada en fuentes no convencionaes de energia solar, en le mercado de EMELCE S.A.,E.S.P.
A42: 9 | B42: Aumento en los costos de operación por cambios en los precios del combustible. | G42: 9 | H42: Buena relacion de trabajo con los entes gubernamentales
A43: 10 | B43: Cambios en la normatividad que aplica para la empresa. | G43: 10 | H43: Posibildad de acceder a los recursos de los fondos de apoyo financiero ( FAZNI), para la ejecución de proyectos de expansión
A44: 11 | B44: Orden publico que pueda afectar la prestación del servicio. | G44: 11 | H44: Buena cultura de pago en la capital del departamento (Inirida)
A45: 12 | B45: Percepcion negativa de los usuarios relacionado con la prestación del servicio de energia electrica | G45: 12 | H45: Experiencia de la empresa en el sector.
... A54: 21 | B54: Parque generador obsoleto. | G54: 21 | H54: La posibilidad de la ejecución de proyectos en otras zonas del pais

Sheet 10. RELACIÓN DOFA
D6: FORTALEZAS | F6: DEBILIDADES
C7: 1 | D7: Infraestructura en generación y distribucion de energia ya establecida en el mercado de EMELCE S.A.,E.S.P. | E7: 1 | F7: No existe claridad en las funciones por partes de los empleados
C8: 2 | D8: Conocimiento profundo de las necesidades especificas en energia en el mercado de EMELCE S.A,.E.SP. | E8: 2 | F8: Dependencia del diesel
C9: 3 | D9: Servicio constante y confiable en los dos municipios del mercado de EMELCE S.A.,E.S.P. | E9: 3 | F9: No existe una estrategia corporativa para gestión documental (archivo) de acuerdo con las normas reglamentarias.
C10: 4 | D10: Produccion de energia renovable | E10: 4 | F10: Deficiencias en la calidad del servicio.
C11: 5 | D11: Experiencia en zonas no interconectadas | E11: 5 | F11: Limitación en recursos tecnicos y financieros
C12: 6 | D12: Perdidas de energia inferiores al maximo establecido por la CREG. | E12: 6 | F12: No se cuenta con metodos de evaluación de competencia de los colaboradores
C13: 7 | D13: Liderazgo regional consolidado | E13: 7 | F13: Se debe fortalecer la identiifcacion de la propiedad planta y equipo
C14: 8 | D14: Estructura organizacional | E14: 8 | F14: Falencia en la comunicación interna cuando se presentan ajustes, cambios en procedimientos, procesos e informacion transversal entre areas.
C15: 9 | D15: Propietario de infraestructura electrica | E15: 9 | F15: Deficiencias en la seguridad del sofware, en especial en el modulo de facturación, software de nomina deficiente
C16: 10 | D16: Alto nivel de recaudo en los dos municipios del mercado. | E16: 10 | F16: Planeación de las inversiones.
C17: 11 | D17: Compromiso del personal | E17: 11 | F17: Deficiencia en la actualización y manejo de activos electricos
C18: 12 | D18: Baja rotación del personal, estabilidad laboral. | E18: 12 | F18: No se ha establecido la metodologia o mecanismo para medir el clima laboral de la empresa.
... C27: 21 | D27: La buena relación e imagen de la Empresa con las entidades nacionales, relacionadas con el sector. | E27: 21 | F27: Baja disponibilidad de recursos humanos,logísticos económicos para realizar el evantamiento de insumos (información de campo para la formulación de proyectos.
B28: OPORTUNIDADES | D28: ESTRATEGIAS FO | F28: ESTRATEGIAS DO
A29: 1 | B29: Incentivos Gubernamentales | D29: Expandir la operación hacia nuevos mercados utilizando la infraestructura ya establecida, ofreciendo soluciones de energía confiables y sostenibles en áreas donde la infraestructura es limitada. | F29: Implementar un programa de capacitación que incluya la definición de roles y responsabilidades claras para los empleados, utilizando plataformas de formación virtual. Esto ayudará a mejorar la claridad sobre las funciones de cada persona en la organización.
A30: 2 | B30: Concienta ambiental | D30: Aprovechar el conocimiento del mercado para desarrollar programas educativos e iniciativas que promuevan el uso responsable y sostenible de la energía, alineándose con el creciente interés por la sostenibilidad. | F30: Desarrollar un proyecto para diversificar la matriz energética mediante la instalación de paneles solares, aprovechando incentivos gubernamentales y tecnología de vanguardia, reduciendo la dependencia del diésel y promoviendo la sostenibilidad.
A31: 3 | B31: Avances tecnolgicos en energia | D31: Colaborar con el gobierno para implementar proyectos que mejoren aún más el servicio, aprovechando incentivos para expandir y modernizar la infraestructura eléctrica. | F31: Establecer alianzas con empresas especializadas en gestión documental para implementar un sistema que cumpla con las normativas vigentes, mejorando la eficiencia y la conformidad regulatoria.
A32: 4 | B32: Desarrollo de nuevos mercados | D32: Invertir en la implementación de paneles solares y otras fuentes de energía renovables para diversificar la matriz energética y captar un segmento creciente de clientes interesados en energía limpia. | F32: Implementar un programa de mejora continua del servicio, considerando las necesidades específicas del sector turístico, aumentando la calidad del servicio ofrecido a los usuarios.
A33: 5 | B33: Alianzas estrategicas | D33: tilizar la experiencia acumulada para liderar proyectos de electrificación en regiones apartadas, aprovechando el conocimiento en operaciones en circunstancias desafiantes. | F33: Establecer un sistema de evaluación y seguimiento de competencias, complementado con formación continua, para aumentar las habilidades del personal y su rendimiento laboral.
A34: 6 | B34: Desarrollo tecnológico | D34: Formar alianzas con otras empresas del sector y organizaciones locales para mejorar la cobertura y los servicios a través de la colaboración y el intercambio de recursos. | F34: Desarrollar proyectos que se alineen con los criterios de financiación de FAZNI para mejorar la infraestructura y los recursos disponibles, potenciando así el crecimiento y mejorando la eficiencia operativa.
A35: 7 | B35: Potencial del energia solar en la zona del mercado de EMELCE S.A.,E.S.P. | D35: Desarrollar campañas de marketing que resalten la eficiencia y efectividad de EMELCE S.A. en la gestión de cobro y el uso responsable de la energía, incentivando a los clientes adecuados a que continúen sus pagos al día. | F35: Implementar un sistema de evaluación del desempeño que permita identificar las necesidades de capacitación de los colaboradores y facilitar su formación a través de plataformas virtuales.
A36: 8 | B36: Poca capacidad instalada en fuentes no convencionaes de energia solar, en le mercado de EMELCE S.A.,E.S.P. | D36: Implementar programas de formación virtual para el personal, aprovechando la estabilidad laboral y el compromiso, para desarrollar aún más sus habilidades técnicas y de servicio al cliente | F36: Realizar encuestas y análisis del clima laboral para identificar áreas de mejora, lo que a su vez puede optimizar la atención de la demanda del servicio y contribuir positivamente al ambiente de trabajo.
A37: 9 | B37: Buena relacion de trabajo con los entes gubernamentales | D37: Mejorar las plataformas existentes y el uso de datos analíticos para optimizar la experiencia del cliente en la gestión de pagos y servicios, identificando patrones que ayuden a personalizar las ofertas. | F37: Desarrollar un sistema de gestión de activos que permita un seguimiento y control más efectivo de la infraestructura, asegurando que se aprovechen los recursos existentes de manera óptima.
A38: 10 | B38: Posibildad de acceder a los recursos de los fondos de apoyo financiero ( FAZNI), para la ejecución de proyectos de expansión | D38: Continuar con la expansión del servicio hacia comunidades no atendidas, utilizando la infraestructura y experiencia existente para alcanzar nuevos clientes. | F38: Establecer un canal de comunicación interno robusto para la formación de grupos de trabajo que se encarguen de mantener actualizada la información transversal sobre cambios y procesos, fomentando una cultura de colaboración.
A39: 11 | B39: Buena cultura de pago en la capital del departamento (Inirida) | D39: Establecer relaciones sólidas con inversionistas y agencias gubernamentales para acceder a fondos que permitan el desarrollo de proyectos sostenibles y de expansión. | F39: Invertir en actualizar y mejorar los sistemas de seguridad de software, realizando auditorías y adoptando nuevas tecnologías para proteger la información y los procesos críticos de la empresa
A40: 12 | B40: Experiencia de la empresa en el sector. | D40: Colaborar estrechamente con estos entes para acceder a financiación para proyectos que favorezcan la transición hacia fuentes de energía más sostenibles y renovar la infraestructura existente. | F40: Implementar un plan de inversión que priorice las áreas con mayor potencial de crecimiento, utilizando un enfoque basado en datos para realizar inversiones estratégicas que faciliten la expansión en nuevos mercados
... A43: 15 | B43: Aumento de la demanda por el desarrollo turistico y dinamica del mercado. | D43: Fortalecer el equipo legal y crear protocolos que optimicen la respuesta ante litigios, invirtiendo en formación del personal en aspectos normativos y legales relevantes para prevenir conflictos. | F43: Establecer una revisión anual del manual de procedimientos, asegurando que se incluyan las actualizaciones necesarias, y capacitar al personal en el uso de estos procedimientos.
A44: 16 | B44: Posible ampliación del portafolio de negocios de la empresa. | F44: Desarrollar un programa de formación continua que contemple múltiples áreas, desde la atención al cliente hasta la gestión de tecnología, asegurando que todos los colaboradores estén bien capacitados.
A45: 17 | B45: Mejoramiento del servicio de alumbrado público. | F45: Fomentar un cambio cultural hacia una mentalidad más abierta y cooperativa, utilizando alianzas estratégicas para diversificar los servicios y aprender de otros participantes del mercado.
A46: 18 | B46: Transformación digiltal y la analitica avanzada en datos | F46: Identificar y formar alianzas con instituciones educativas para reclutar y capacitar nuevos talentos, contribuyendo a la capacitación del personal técnico requerido.
A47: 19 | B47: Adecuada gestion de activos | F47: Implementar tecnología de gestión de proyectos que permita optimizar la utilización de los recursos y gestionar de manera eficiente el levantamiento de insumos.
A48: 20 | B48: Acceso s recursos de diversos fuentes, mediante la estrucuturación de proyectos sostenibles. | F48: Establecer protocolos claros sobre las responsabilidades de informes y pagos, utilizando la buena cultura de pago de los usuarios como modelo para fomentar el cumplimiento.
A49: 21 | B49: La posibilidad de la ejecución de proyectos en otras zonas del pais. | F49: Aprovechar los cambios en la normativa y políticas energéticas para actualizar el reglamento interno y que se alinee con las mejores prácticas del sector.
F50: Explorar fondos gubernamentales y asociaciones con entidades locales en nuevas áreas para obtener recursos que faciliten la recolección de datos para proyectos de expansión.
B51: AMENANZAS | D51: ESTRATEGIAS FA | F51: ESTRATEGIAS DA
A52: 1 | B52: Cambio climatico | D52: Utilizar la infraestructura existente para realizar un diagnóstico preciso sobre las necesidades de capacidad adicional y planificar inversiones en ampliaciones o mejoras, anticipando la demanda futura. | F52: Establecer un manual de funciones y roles claros para todos los empleados, acompañado de sesiones de inducción y capacitación sobre sus responsabilidades. Esto ayudará a alinear las expectativas y mejorar la eficiencia del servicio
A53: 2 | B53: Politicas energeticas cambiantes | D53: Implementar un programa de evaluación continua de las necesidades energéticas en comunidades específicas, creando soluciones personalizadas y miniredes que se adapten a los requerimientos locales. | F53: Investigar e implementar fuentes de energía renovable y alternativas al diésel, como la energía solar , para diversificar las fuentes de energía y reducir costos de operación.
A54: 3 | B54: Competencia en el sector energetico | D54: Aprovechar el historial de servicio confiable para establecer una campaña de comunicación que resalte la eficiencia y calidad del servicio, así como testimonios positivos de los usuarios. | F54: Desarrollar un sistema de gestión documental que cumpla con las normativas y establezca protocolos claros para la organización y acceso a la información.
A55: 4 | B55: Inestabilidad economica | D55: Expandir la producción de energía renovable como una respuesta a las preocupaciones ambientales y al cambio climático, combinando fuentes como solar , y promocionando el compromiso con la sostenibilidad ante los usuarios. | F55: Implementar un programa de mejora continua que incluya la evaluación periódica del servicio y encuestas de satisfacción del cliente para identificar áreas de mejora.
...

Sheet 11 Cronograma del plan estratég
A1: Sistema Integrado de Gestión | C1: PLAN | AG1: Codigo: PL01-PR02-GGE
AG3: Versión: 01
C4: PLAN DE GESTIÓN Y RESULTADOS
AG5: Noviembre de 2024
A11: PERIODO : | B11: Qué y Cómo decidimos HACERLO:
A12: Objetivos estratégicos | B12: Estrategias corporativas para lograr los objetivos | D12: CRONOGRAMA DE EJECUCIÓN REAL DE LA ACTIVIDAD | AH12: OBSERVACIONES
D13: Trimestre 1 (ENE-MAR) | J13: Trimestre 2 (MAY-JUN) | P13: Trimestre 2 (ABR- JUN) | V13: Trimestre 3 (JUL-SEP) | AB13: Trimestre 4 (OCT-DIC)
D14: 1 | F14: 2 | H14: 3 | J14: 4 | L14: 5 | N14: 6 | P14: 4 | R14: 5 | T14: 6 | V14: 7 | X14: 8 | Z14: 9 | AB14: 10 | AD14: 11 | AF14: 12
B15: Acciones y decisiones | C15: Responsable(s) | D15: P | E15: E | F15: P | G15: E | H15: P | I15: E | J15: P | K15: E | L15: P | M15: E | N15: P | O15: E | P15: P | Q15: E | R15: P | S15: E | T15: P | U15: E | V15: P | W15: E | X15: P | Y15: E | Z15: P | AA15: E | AB15: P | AC15: E | AD15: P | AE15: E | AF15: P | AG15: E
A16: FORTALECER LA SOSTENIBILIDAD ECONOMICA | B16: Desarrollo del comité financiero | C16: Lider financiero y contable. | R16: 1 | X16: 1 | AD16: 1 | AH16: Se realizo una reuniòn pero no existe acta firmada.
B17: Actualizar y dar cumplimiento a la decisión empresarial No 192 de 2022 "por cual se implementa directrices para el otorgamiento de créditos o financiacion, acuerdos de pago y para la recuperació de la cartera". | C17: Lider administrativo y comercial. | P17: 1 | R17: 1 | T17: 1 | V17: 1 | X17: 1 | Z17: 1 | AB17: 1 | AD17: 1 | AF17: 1
B18: Desarrollo comite de cartera | C18: Lider administrativo y comercial. | P18: 1 | R18: 1 | T18: 1 | V18: 1 | X18: 1 | Z18: 1 | AB18: 1 | AD18: 1 | AF18: 1 | AH18: Urgente actas, seguimiento
B19: Efectuar la baja de elementos y bienes inservibles y sin rotación de EMELCE S.A. E.S.P. | C19: Lider administrativo y comercial/ almacenista. | R19: 1 | X19: 1 | AD19: 1 | AH19: Pendiente evidencias
B20: Efectuar conciliación mensual por concepto de pagos con las entidades que han suscrito convenios de recaudo con la empresa. | C20: Lider financiero y contable. | P20: 1 | R20: 1 | T20: 1 | V20: 1 | X20: 1 | Z20: 1 | AB20: 1 | AD20: 1 | AF20: 1 | AH20: Verificar valor de comision por recaudo de supergiros.
B21: Efectuar conciliación mensual con las empresas que han suscrito contratos o convenio exequiales. | C21: Lider administrativo y comercial /Jefe de facturación | P21: 1 | R21: 1 | T21: 1 | V21: 1 | X21: 1 | Z21: 1 | AB21: 1 | AD21: 1 | AF21: 1
B22: Efectuar conciliación mensual para convenio de facturación conjunta. | C22: Lider administrativo y comercial /Jefe de facturación | P22: 1 | R22: 1 | T22: 1 | V22: 1 | X22: 1 | Z22: 1 | AB22: 1 | AD22: 1 | AF22: 1
B23: Realizar conciliación de la cartera comercial para compararla con la contable | C23: Lider financiero y contable. | P23: 1 | R23: 1 | T23: 1 | V23: 1 | X23: 1 | Z23: 1 | AB23: 1 | AD23: 1 | AF23: 1 | AH23: No existe una evidencia,crear un documento
B24: Seguimiento - cargue información SUI (información Financiera) | C24: Lider financiero y contable. | P24: 1 | R24: 1 | V24: 1 | AB24: 1 | AH24: Crear , oficializar el cronograma, se cumplio pero se cargo de manera extemporanea
B25: Realizar cargue de contratación a la plataforma SIA observa | C25: Tesorera (presupuesto) | P25: 1 | R25: 1 | T25: 1 | V25: 1 | X25: 1 | Z25: 1 | AB25: 1 | AD25: 1 | AF25: 1
B26: Realizar cargue de contratación a la plataforma SIA observa | C26: Secretaria Juridica. | P26: 1 | R26: 1 | T26: 1 | V26: 1 | X26: 1 | Z26: 1 | AB26: 1 | AD26: 1 | AF26: 1
B27: Realizar cargue de contratación a la plataforma SIA observa | C27: Lider administrativo | P27: 1 | R27: 1 | T27: 1 | V27: 1 | X27: 1 | Z27: 1 | AB27: 1 | AD27: 1 | AF27: 1 | AH27: Debe existir una delegaciòn de parte de la Gerencia al lider administrativo.
B28: Matriz Programación de vacaciones. | C28: Tesorera (presupuesto) | P28: 1
B29: Realizar cargue de información CHIP del informe CUIPO | C29: Lider financiero y contable. | P29: 1 | V29: 1 | AB29: 1
B30: Realizar cargue de información CHIP financiera | C30: Lider financiero y contable. | P30: 1 | V30: 1 | AB30: 1
B31: Realizar presentación y declaración de impuestos DIAN | C31: Lider financiero y contable. | P31: 1 | R31: 1 | T31: 1 | V31: 1 | X31: 1 | Z31: 1 | AB31: 1 | AD31: 1 | AF31: 1
B32: Realizar presentación y declaración de impuestos DIAN - RENTA | C32: Lider financiero y contable. | R32: 1
B33: Realizar presentación y declaración de impuestos DIAN - EXOGENA | C33: Lider financiero y contable. | R33: 1
B34: Realizar presentación y declaración de impuestos DIAN - IVA | C34: Lider financiero y contable. | R34: 1 | V34: 1 | Z34: 1 | AD34: 1
B35: Gestionar cuentas de cobro a las empresas que hacen uso de la infraestrucutura electrica, para telecomunicaciones. | C35: Lider de Generación y distribución/ Apoyo profesional admon | P35: 1 | R35: 1 | T35: 1 | V35: 1 | X35: 1 | Z35: 1 | AB35: 1 | AD35: 1 | AF35: 1
B36: Gestionar cuenta de cobro convenio No GENSA - EMELCE , mantenimiento red circuito No 5. | C36: Lider de Generación y distribución/ Apoyo Ambiental | R36: 1 | V36: 1 | AB36: 1 | AH36: Verificar con GENSA, los respectivos pagos desde el 2021.
B37: Realizar seguimiento a los inventarios y depuraciòn de los mismos por daños o cumplimiento de su vida util, asignados a los trabajadores de la empresa | C37: Almacenista | P37: 1 | R37: 1 | T37: 1 | V37: 1 | X37: 1 | Z37: 1 | AB37: 1 | AD37: 1 | AF37: 1 | AH37: Ajustar para que sea trimestral
B38: Actualizar tasas de interes para los negocios de la empresa, | C38: Gerencia General/ Lider de administrativo/ comercial/Lider contable y Financiero | P38: 1 | R38: 1 | T38: 1 | V38: 1 | X38: 1 | Z38: 1 | AB38: 1 | AD38: 1 | AF38: 1 | AH38: Ajustar en el acta los interes de las tarifas para los residenciales y no residenciales.
B39: Gestionar subsidios por menores tarifas ante el Ministerio de Minas y Energia. | C39: Gerencia General | P39: 1 | V39: 1 | AB39: 1 | AH39: Existen oficios a min energia y sspp sobre informaciòn para gestiòn de subsidios.
B40: Crear establecer, documentar el procedimiento para horas extras. | C40: Lider administrativo y comercial. | R40: 1 | AH40: No se ha realizado
B41: Realizar proceso de criticas en la facturación. | C41: Lider administrativo y comercial/ jefe de facturación. | P41: 1 | R41: 1 | T41: 1 | V41: 1 | X41: 1 | Z41: 1 | AB41: 1 | AD41: 1 | AF41: 1 | AH41: Existen informes mensualizados de las criticas, inician desde el mes de noviembre.
B42: Actualizar matriz de alumbrado publico, notificar al municipio. | C42: Lider administrativo y comercial /Jefe de comercialización | P42: 1 | R42: 1 | T42: 1 | V42: 1 | X42: 1 | Z42: 1 | AB42: 1 | AD42: 1 | AF42: 1 | AH42: Se deben incluir intereses de mora en la factura.
B43: Analisis administrativo y financiero de los negocios empresariales. (Crediemelce, etc) | C43: Gerente General. | V43: 1
A44: FORTALECER LAS COMPETENCIAS DEL CAPITAL HUMANO. | B44: Implementar plan de capacitaciones | C44: Lider administrativo y comercial. | R44: 1 | T44: 1 | V44: 1 | X44: 1 | Z44: 1 | AB44: 1 | AD44: 1 | AF44: 1 | AH44: Pendiente para conocer el porcentaje de ejecuciòn del cronograma del plan de capacitaciòn, investigar si esxiste un plan o documento de capacitaciòn.
B45: Formular programa anual de capacitaciones del SIG 2026 | C45: Lider administrativo y comercial. | P45: 1
B46: Efectuar exámenes Médico ocupacionales | C46: Lider administrativo y comercial. | X46: 1 | AH46: Se ejecuto hasta el mes de diciembre.
...

Sheet 12. Proyección de ventas.
A1: Sistema Integrado de Gestión | C1: PLAN | AA1: Codigo: PL01-PR02-GGE
AA3: Versión: 01
C4: PLAN DE GESTIÓN Y RESULTADOS
AA5: Noviembre de 2024
B13: VENTA DE BIENES Y SERVICIOS | C13: {=SUM(C14:C34)} -> 2.8078971e+10
A14: 1.1.02.05.001.06.01 | B14: Venta de servicio de energia Inirida | C14: ='15. Flujo de caja '!O15 -> 2.15e+10
A15: 1.1.02.05.001.06.02 | B15: Venta de servicio de energia Barrancominas | C15: ='15. Flujo de caja '!O16 -> 9.79e+08
A16: 1.1.02.05.001.06.03 | B16: Venta de servicio de energia San Felipe | C16: ='15. Flujo de caja '!P17 -> 50000000
A17: 1.1.02.05.001.06.04 | B17: Instalaciones Nuevas Inirida | C17: ='15. Flujo de caja '!O27 -> 1.5e+08
A18: 1.1.02.05.001.06.05 | B18: Instalaciones Nuevas Barrancominas | C18: ='15. Flujo de caja '!O19 -> 6000000
A19: 1.1.02.05.001.06.07 | B19: Alumbrado Publico Inirida | C19: ='15. Flujo de caja '!O21 -> 1.0355574e+09
A20: 1.1.02.05.001.06.10 | B20: Reconexiones Inirida | C20: ='15. Flujo de caja '!O24 -> 1e+08
A21: 1.1.02.05.001.06.11 | B21: Reconexiones Barrancominas | C21: ='15. Flujo de caja '!O25 -> 2000000
A22: 1.1.02.05.001.06.12 | B22: Reconexiones San Felipe | C22: 0
A23: 1.1.02.05.001.06.13 | B23: Otros Servicios Inirida | C23: ='15. Flujo de caja '!O27 -> 1.5e+08
A24: 1.1.02.05.001.06.14 | B24: Otros Servicios Barrancominas | C24: ='15. Flujo de caja '!O28 -> 6000000
A25: 1.1.02.05.001.06.15 | B25: Otros Servicios San Felipe | C25: 0
A26: 1.1.02.05.001.07 | B26: PARQUES | C26: ='15. Flujo de caja '!O30 -> 83186109
A27: 1.1.02.05.001.08 | B27: DISEL | C27: ='15. Flujo de caja '!O38 -> 10227095
A28: 1.1.02.05.001.09 | B28: SISFV | C28: ='15. Flujo de caja '!O51 -> 54000000
A29: 1.1.02.05.001.10.01 | B29: Rec X Comision Crediemelce | C29: {='15. Flujo de caja '!O54:O59} -> 1.21e+08
A30: 1.1.02.05.001.10.02 | B30: Rec X Alquiler Postes | C30: 42000000
A31: 1.1.02.05.001.10.03 | B31: S Prest Prog Crediemelce Iniri | C31: 3.5e+09
A32: 1.1.02.05.001.10.04 | B32: S Prest Prog Crediemelce Bmina | C32: 40000000
A33: 1.1.02.05.001.10.05 | B33: Recaudo Comision Convenio Apc | C33: 1.5e+08
A34: 1.1.02.05.001.10.06 | B34: Rec X Prestamos A Accionistas | C34: 1e+08

Sheet 13. Presupuesto ingresos
A1: Sistema Integrado de Gestión | C1: PLAN | AA1: Codigo: PL01-PR02-GGE
AA3: Versión: 01
C4: PLAN DE GESTIÓN Y RESULTADOS
AA5: Noviembre de 2024
D13: Código Presupuestal | E13: Presupuesto Inicial | F13: Adicion Periodo | G13: Deducci Periodo | H13: Adic/Redu Acumulada | I13: Presupuesto Definitivo | J13: Recaudo Periodo | K13: Recaudo Acumulado | L13: Porc Ejec | M13: Saldo por Recaudar
D14: 1 INGRESOS | E14: =+E15+E94 -> 60687426462 | F14: =+F15+F94 -> 0 | G14: =+G15+G94 -> 0 | H14: =+H15+H94 -> 0 | I14: =+I15+I94 -> 60687426462 | J14: =+J15+J94 -> 4.0859543e+09 | K14: =+K15+K94 -> 4.0859543e+09 | L14: =+K14/M14 -> 0.072188128 | M14: =+M15+M94 -> 5.6601472e+10
D15: 1.1 INGRESOS CORRIENTES | E15: =+E16 -> 59586426462 | F15: =+F16 -> 0 | G15: =+G16 -> 0 | H15: =+H16 -> 0 | I15: =+I16 -> 59586426462 | J15: =+J16 -> 3.7260014e+09 | K15: =+K16 -> 3.7260014e+09 | L15: =+K15/M15 -> 0.066701988 | M15: =+M16 -> 5.5860425e+10
D16: 1.1.02 INGRESOS NO TRIBUTARIOS | E16: =+E17+E65 -> 59586426462 | F16: =+F17+F65 -> 0 | G16: =+G17+G65 -> 0 | H16: =+H17+H65 -> 0 | I16: =+I17+I65 -> 59586426462 | J16: =+J17+J65 -> 3.7260014e+09 | K16: =+K17+K65 -> 3.7260014e+09 | L16: =+K16/M16 -> 0.066701988 | M16: =+M17+M65 -> 5.5860425e+10
D17: 1.1.02.05 VENTA DE BIENES Y SERVICIOS | E17: =+E18 -> 28039909645 | F17: =+F18 -> 0 | G17: =+G18 -> 0 | H17: =+H18 -> 0 | I17: =+I18 -> 28039909645 | J17: =+J18 -> 3.7205773e+09 | K17: =+K18 -> 3.7205773e+09 | L17: =+K17/M17 -> 0.15298846 | M17: =+M18 -> 2.4319332e+10
D18: 1.1.02.05.001 VENTA ESTABLECIMIEN DE MERCADO | E18: =+E19+E35+E43+E56+E58 -> 28039909645 | F18: =+F19+F35+F43+F56+F58 -> 0 | G18: =+G19+G35+G43+G56+G58 -> 0 | H18: =+H19+H35+H43+H56+H58 -> 0 | I18: =+I19+I35+I43+I56+I58 -> 28039909645 | J18: =+J19+J35+J43+J56+J58 -> 3.7205773e+09 | K18: =+K19+K35+K43+K56+K58 -> 3.7205773e+09 | L18: =+K18/M18 -> 0.15298846 | M18: =+M19+M35+M43+M56+M58 -> 2.4319332e+10
D19: 1.1.02.05.001.06 DISTRIBUCION DE ELECTRICIDAD | E19: =SUM(E20:E34) -> 23939561441 | F19: =SUM(F20:F34) -> 0 | G19: =SUM(G20:G34) -> 0 | H19: =SUM(H20:H34) -> 0 | I19: =SUM(I20:I34) -> 23939561441 | J19: =SUM(J20:J34) -> 3011676439 | K19: =SUM(K20:K34) -> 3011676439 | L19: =+K19/M19 -> 0.14390735 | M19: =SUM(M20:M34) -> 20927885002
D20: 1.1.02.05.001.06.01 Rec Venta ServEnerg Inirida | E20: 21500000000 | F20: 0 | G20: 0 | H20: =+F20-G20 -> 0 | I20: =+E20+H20 -> 21500000000 | J20: 2656638031 | K20: =+J20 -> 2656638031 | L20: =+K20/M20 -> 0.14098535 | M20: =+I20-K20 -> 18843361969
D21: 1.1.02.05.001.06.02 Rec X Sev Bcominas Pque Hibrid | E21: 979000000 | F21: 0 | G21: 0 | H21: =+F21-G21 -> 0 | I21: =+E21+H21 -> 979000000 | J21: 164056187 | K21: =+J21 -> 164056187 | L21: =+K21/M21 -> 0.20130981 | M21: =+I21-K21 -> 814943813
D22: 1.1.02.05.001.06.03 Rec Venta ServEnerg San Felipe | E22: 50000000 | F22: 0 | G22: 0 | H22: =+F22-G22 -> 0 | I22: =+E22+H22 -> 50000000 | J22: 826860 | K22: =+J22 -> 826860 | L22: =+K22/M22 -> 0.016815278 | M22: =+I22-K22 -> 49173140
D23: 1.1.02.05.001.06.04 Rec Instalaci Nuevas Inirida | E23: 110000000 | F23: 0 | G23: 0 | H23: =+F23-G23 -> 0 | I23: =+E23+H23 -> 110000000 | J23: 25003199 | K23: =+J23 -> 25003199 | L23: =+K23/M23 -> 0.29416635 | M23: =+I23-K23 -> 84996801
D24: 1.1.02.05.001.06.05 Rec Instalaci Nuevas Bcominas | E24: 6000000 | F24: 0 | G24: 0 | H24: =+F24-G24 -> 0 | I24: =+E24+H24 -> 6000000 | J24: 681942 | K24: =+J24 -> 681942 | L24: =+K24/M24 -> 0.1282314 | M24: =+I24-K24 -> 5318058
D25: 1.1.02.05.001.06.06 Rec Instalaci Nuevas Sn Felipe | E25: 1000 | F25: 0 | G25: 0 | H25: =+F25-G25 -> 0 | I25: =+E25+H25 -> 1000 | J25: 0 | K25: =+J25 -> 0 | L25: =+K25/M25 -> 0 | M25: =+I25-K25 -> 1000
D26: 1.1.02.05.001.06.07 RecXVenta Alumbr Publi Inírida | E26: 1035557441 | F26: 0 | G26: 0 | H26: =+F26-G26 -> 0 | I26: =+E26+H26 -> 1035557441 | J26: 81175620 | K26: =+J26 -> 81175620 | L26: =+K26/M26 -> 0.085055706 | M26: =+I26-K26 -> 954381821
D27: 1.1.02.05.001.06.08 RecXVenta Alumb Publi Bcominas | E27: 1000 | F27: 0 | G27: 0 | H27: =+F27-G27 -> 0 | I27: =+E27+H27 -> 1000 | J27: 0 | K27: =+J27 -> 0 | L27: =+K27/M27 -> 0 | M27: =+I27-K27 -> 1000
D28: 1.1.02.05.001.06.09 RecXVenta Alumb Publi SnFelipe | E28: 1000 | F28: 0 | G28: 0 | H28: =+F28-G28 -> 0 | I28: =+E28+H28 -> 1000 | J28: 0 | K28: =+J28 -> 0 | L28: =+K28/M28 -> 0 | M28: =+I28-K28 -> 1000
D29: 1.1.02.05.001.06.10 RecX Reconexiones Inírida | E29: 100000000 | F29: 0 | G29: 0 | H29: =+F29-G29 -> 0 | I29: =+E29+H29 -> 100000000 | J29: 4817200 | K29: =+J29 -> 4817200 | L29: =+K29/M29 -> 0.050609984 | M29: =+I29-K29 -> 95182800
D30: 1.1.02.05.001.06.11 RecX Reconexiones Bcominas | E30: 2000000 | F30: 0 | G30: 0 | H30: =+F30-G30 -> 0 | I30: =+E30+H30 -> 2000000 | J30: 144000 | K30: =+J30 -> 144000 | L30: =+K30/M30 -> 0.077586207 | M30: =+I30-K30 -> 1856000
D31: 1.1.02.05.001.06.12 RecX Reconexiones San Felipe | E31: 1000 | F31: 0 | G31: 0 | H31: =+F31-G31 -> 0 | I31: =+E31+H31 -> 1000 | J31: 0 | K31: =+J31 -> 0 | L31: =+K31/M31 -> 0 | M31: =+I31-K31 -> 1000
... D34: 1.1.02.05.001.06.15 RecX Otros ServEnerg Sn Felipe | E34: 1000000 | F34: 0 | G34: 0 | H34: =+F34-G34 -> 0 | I34: =+E34+H34 -> 1000000 | J34: 432121 | K34: =+J34 -> 432121 | L34: =+K34/M34 -> 0.76093851 | M34: =+I34-K34 -> 567879
D35: 1.1.02.05.001.07 PARQUES | E35: =SUM(E36:E42) -> 83121109 | F35: =SUM(F36:F42) -> 0 | G35: =SUM(G36:G42) -> 0 | H35: =SUM(H36:H42) -> 0 | I35: =SUM(I36:I42) -> 83121109 | J35: =SUM(J36:J42) -> 27407777 | K35: =SUM(K36:K42) -> 27407777 | L35: =+K35/M35 -> 0.49194288 | M35: =SUM(M36:M42) -> 55713332
D36: 1.1.02.05.001.0701 Rec X Servicios A Chatare | E36: 9250852 | F36: 0 | G36: 0 | H36: =+F36-G36 -> 0 | I36: =+E36+H36 -> 9250852 | J36: 0 | K36: =+J36 -> 0 | L36: =+K36/M36 -> 0 | M36: =+I36-K36 -> 9250852
D37: 1.1.02.05.001.0702 Rec X Serv A Carpintero | E37: 14285559 | F37: 0 | G37: 0 | H37: =+F37-G37 -> 0 | I37: =+E37+H37 -> 14285559 | J37: 1358500 | K37: =+J37 -> 1358500 | L37: =+K37/M37 -> 0.10508964 | M37: =+I37-K37 -> 12927059
D38: 1.1.02.05.001.0703 Rec X Serv Lag.Colord_Pblo Nvo | E38: 6120000 | F38: 0 | G38: 0 | H38: =+F38-G38 -> 0 | I38: =+E38+H38 -> 6120000 | J38: 6185000 | K38: =+J38 -> 6185000 | L38: =+K38/M38 -> -95.153846 | M38: =+I38-K38 -> -65000
D39: 1.1.02.05.001.0704 Rec X Serv Caranacoa | E39: 13625415 | F39: 0 | G39: 0 | H39: =+F39-G39 -> 0 | I39: =+E39+H39 -> 13625415 | J39: 753111 | K39: =+J39 -> 753111 | L39: =+K39/M39 -> 0.058506309 | M39: =+I39-K39 -> 12872304
D40: 1.1.02.05.001.0705 Rec X Serv Remanso | E40: 12557702 | F40: 0 | G40: 0 | H40: =+F40-G40 -> 0 | I40: =+E40+H40 -> 12557702 | J40: 7517885 | K40: =+J40 -> 7517885 | L40: =+K40/M40 -> 1.491698 | M40: =+I40-K40 -> 5039817
D41: 1.1.02.05.001.0706 Rec X Serv Venado | E41: 12887581 | F41: 0 | G41: 0 | H41: =+F41-G41 -> 0 | I41: =+E41+H41 -> 12887581 | J41: 2136481 | K41: =+J41 -> 2136481 | L41: =+K41/M41 -> 0.19872208 | M41: =+I41-K41 -> 10751100
D42: 1.1.02.05.001.0707 Rec X Serv Chorrobocon | E42: 14394000 | F42: 0 | G42: 0 | H42: =+F42-G42 -> 0 | I42: =+E42+H42 -> 14394000 | J42: 9456800 | K42: =+J42 -> 9456800 | L42: =+K42/M42 -> 1.9154176 | M42: =+I42-K42 -> 4937200
D43: 1.1.02.05.001.08 DISEL | E43: =SUM(E44:E55) -> 10227095 | F43: =SUM(F44:F55) -> 0 | G43: =SUM(G44:G55) -> 0 | H43: =SUM(H44:H55) -> 0 | I43: =SUM(I44:I55) -> 10227095 | J43: =SUM(J44:J55) -> 0 | K43: =SUM(K44:K55) -> 0 | L43: =+K43/M43 -> 0 | M43: =SUM(M44:M55) -> 10227095
D44: 1.1.02.05.001.0801 Rec X Serv Prest A Cacahual | E44: 1725533 | F44: 0 | G44: 0 | H44: =+F44-G44 -> 0 | I44: =+E44+H44 -> 1725533 | J44: 0 | K44: =+J44 -> 0 | L44: =+K44/M44 -> 0 | M44: =+I44-K44 -> 1725533
D45: 1.1.02.05.001.0802 Rec X Serv Prest A Chaquita | E45: 1308235 | F45: 0 | G45: 0 | H45: =+F45-G45 -> 0 | I45: =+E45+H45 -> 1308235 | J45: 0 | K45: =+J45 -> 0 | L45: =+K45/M45 -> 0 | M45: =+I45-K45 -> 1308235
D46: 1.1.02.05.001.0803 Rec X Serv Prest A Merey | E46: 562283 | F46: 0 | G46: 0 | H46: =+F46-G46 -> 0 | I46: =+E46+H46 -> 562283 | J46: 0 | K46: =+J46 -> 0 | L46: =+K46/M46 -> 0 | M46: =+I46-K46 -> 562283
D47: 1.1.02.05.001.0804 Rec X Serv Prest A Pato Corona | E47: 308799 | F47: 0 | G47: 0 | H47: =+F47-G47 -> 0 | I47: =+E47+H47 -> 308799 | J47: 0 | K47: =+J47 -> 0 | L47: =+K47/M47 -> 0 | M47: =+I47-K47 -> 308799
D48: 1.1.02.05.001.0805 Rec X Serv Prest A Playa Blanca | E48: 191372 | F48: 0 | G48: 0 | H48: =+F48-G48 -> 0 | I48: =+E48+H48 -> 191372 | J48: 0 | K48: =+J48 -> 0 | L48: =+K48/M48 -> 0 | M48: =+I48-K48 -> 191372
D49: 1.1.02.05.001.0806 Rec X Serv Prest A Guayabal | E49: 141578 | F49: 0 | G49: 0 | H49: =+F49-G49 -> 0 | I49: =+E49+H49 -> 141578 | J49: 0 | K49: =+J49 -> 0 | L49: =+K49/M49 -> 0 | M49: =+I49-K49 -> 141578
D50: 1.1.02.05.001.0807 Rec X Serv Prest A Caño Raya | E50: 419867 | F50: 0 | G50: 0 | H50: =+F50-G50 -> 0 | I50: =+E50+H50 -> 419867 | J50: 0 | K50: =+J50 -> 0 | L50: =+K50/M50 -> 0 | M50: =+I50-K50 -> 419867
...

Sheet 14. presupuesto gastos
A1: 14. Presupuesto de gastos.
A3: Rubro | B3: Presup Inicial | C3: Modifi Periodo' | D3: Modifi Acum | E3: Presup Defini | F3: Giros Periodo | G3: Giros Acum | H3: Saldo Comp y CRP | I3: Total Ejecu | J3: % Ejec | K3: Presup x Ejecu | L3: Saldo de Disponib | M3: Saldo por Disponer
A4: 2 GASTOS | B4: =+B5+B138 -> 60687426462 | C4: =+C5+C138 -> 0 | D4: =+D5+D138 -> 0 | E4: =+E5+E138 -> 59787426462 | F4: =+F5+F138 -> 0 | G4: =+G5+G138 -> 0 | H4: =+H5+H138 -> 1.705262e+10 | I4: =+I5+I138 -> 1.6609643e+10 | K4: =+K5+K138 -> 4.3177784e+10 | L4: =+L5+L138 -> 0 | M4: =+M5+M138 -> 0
A5: 2.1 FUNCIONAMIENTO | B5: =+B6+B77+B127 -> 5.4562362e+10 | C5: =+C6+C77+C127 -> 0 | D5: =+D6+D77+D127 -> 0 | E5: =+E6+E77+E127 -> 5.3662362e+10 | F5: =+F6+F77+F127 -> 0 | G5: =+G6+G77+G127 -> 0 | H5: =+H6+H77+H127 -> 1.5630181e+10 | I5: =+I6+I77+I127 -> 1.5187204e+10 | K5: =+K6+K77+K127 -> 3.8475159e+10 | L5: =+L6+L77+L127 -> 0 | M5: =+M6+M77+M127 -> 0
A6: 2.1.1 GASTOS DE PERSONAL | B6: =+B7+B70 -> 2.8318885e+09 | C6: =+C7+C70 -> 0 | D6: =+D7+D70 -> 0 | E6: =+E7+E70 -> 2.8318885e+09 | F6: =+F7+F70 -> 0 | G6: =+G7+G70 -> 0 | H6: =+H7+H70 -> 5.1359716e+08 | I6: =+I7+I70 -> 5.1359716e+08 | K6: =+K7+K70 -> 2.3182913e+09 | L6: =+L7+L70 -> 0 | M6: =+M7+M70 -> 0
A7: 2.1.1.01 PLANTA DE PERSONAL PERMANENTE | B7: =+B8+B36+B55 -> 2.7440337e+09 | C7: =+C8+C36+C55 -> 0 | D7: =+D8+D36+D55 -> 0 | E7: =+E8+E36+E55 -> 2.7440337e+09 | F7: =+F8+F36+F55 -> 0 | G7: =+G8+G36+G55 -> 0 | H7: =+H8+H36+H55 -> 4.9710874e+08 | I7: =+I8+I36+I55 -> 4.9710874e+08 | K7: =+K8+K36+K55 -> 2.246925e+09 | L7: =+L8+L36+L55 -> 0 | M7: =+M8+M36+M55 -> 0
A8: 2.1.1.01.01 FACTOR CONSTITUTIVOS SALARIO | B8: =+B9 -> 2.0116945e+09 | C8: =+C9 -> 0 | D8: =+D9 -> 0 | E8: =+E9 -> 2.0116945e+09 | F8: =+F9 -> 0 | G8: =+G9 -> 0 | H8: =+H9 -> 402299386 | I8: =+I9 -> 402299386 | K8: =+K9 -> 1.6093951e+09 | L8: =+L9 -> 0 | M8: =+M9 -> 0
A9: 2.1.1.01.01.001 FACTORES SALARIALES COMUNES | B9: =+B10+B14+B17+B19+B23+B27 -> 2.0116945e+09 | C9: =+C10+C14+C17+C19+C23+C27 -> 0 | D9: =+D10+D14+D17+D19+D23+D27 -> 0 | E9: =+E10+E14+E17+E19+E23+E27 -> 2.0116945e+09 | F9: =+F10+F14+F17+F19+F23+F27 -> 0 | G9: =+G10+G14+G17+G19+G23+G27 -> 0 | H9: =+H10+H14+H17+H19+H23+H27 -> 402299386 | I9: =+I10+I14+I17+I19+I23+I27 -> 402299386 | K9: =+K10+K14+K17+K19+K23+K27 -> 1.6093951e+09 | L9: =+L10+L14+L17+L19+L23+L27 -> 0 | M9: =+M10+M14+M17+M19+M23+M27 -> 0
A10: 2.1.1.01.01.001.01 SUELDO BASICO | B10: =SUM(B11:B13) -> 1534999680 | C10: =SUM(C11:C13) -> 0 | D10: =SUM(D11:D13) -> 0 | E10: =SUM(E11:E13) -> 1534999680 | F10: =SUM(F11:F13) -> 0 | G10: =SUM(G11:G13) -> 0 | H10: =SUM(H11:H13) -> 346519757 | I10: =SUM(I11:I13) -> 346519757 | K10: =SUM(K11:K13) -> 1188479923 | L10: =SUM(L11:L13) -> 0 | M10: =SUM(M11:M13) -> 0
A11: 2.1.1.01.01.001.0101 Sueldo Personal Inirida | B11: 1333068000 | C11: 0 | D11: =+C11 -> 0 | E11: =+B11+D11 -> 1333068000 | G11: =+F11 -> 0 | H11: 309033924 | I11: =+H11 -> 309033924 | K11: =+E11-I11 -> 1024034076
A12: 2.1.1.01.01.001.0102 Sueldo Personal Bcominas | B12: 182964000 | C12: 0 | D12: 0 | E12: =+B12+D12 -> 182964000 | H12: 37485833 | I12: =+H12 -> 37485833 | K12: =+E12-I12 -> 145478167
A13: 2.1.1.01.01.001.0103 Sueldo Personal San Felipe | B13: 18967680 | C13: 0 | D13: 0 | E13: =+B13+D13 -> 18967680 | H13: 0 | I13: =+H13 -> 0 | K13: =+E13-I13 -> 18967680
A14: 2.1.1.01.01.001.02 HORAS EXTRAS DOMIN FESTI RECAR | B14: =SUM(B15:B16) -> 102000000 | C14: =SUM(C15:C16) -> 0 | D14: =SUM(D15:D16) -> 0 | E14: =SUM(E15:E16) -> 102000000 | F14: =SUM(F15:F16) -> 0 | G14: =SUM(G15:G16) -> 0 | H14: =SUM(H15:H16) -> 30030033 | I14: =SUM(I15:I16) -> 30030033 | K14: =SUM(K15:K16) -> 71969967 | L14: =SUM(L15:L16) -> 0 | M14: =SUM(M15:M16) -> 0
A15: 2.1.1.01.01.001.0201 H Extras-Domin-Festi-Recar Ida | B15: 66000000 | C15: 0 | D15: 0 | E15: =+B15+D15 -> 66000000 | H15: 15022700 | I15: =+H15 -> 15022700 | K15: =+E15-I15 -> 50977300
A16: 2.1.1.01.01.001.0202 H Extras-Domin-Festi-Rec Bacom | B16: 36000000 | C16: 0 | D16: 0 | E16: =+B16+D16 -> 36000000 | H16: 15007333 | I16: =+H16 -> 15007333 | K16: =+E16-I16 -> 20992667
A17: 2.1.1.01.01.001.03 GASTOS DE REPRESENTACION | B17: =+B18 -> 12000000 | C17: =+C18 -> 0 | D17: =+D18 -> 0 | E17: =+E18 -> 12000000 | F17: =+F18 -> 0 | G17: =+G18 -> 0 | H17: =+H18 -> 3000000 | I17: =+I18 -> 3000000 | K17: =+K18 -> 9000000 | L17: =+L18 -> 0 | M17: =+M18 -> 0
A18: 2.1.1.01.01.001.0301 Gastos Representacion Inirida | B18: 12000000 | C18: 0 | D18: 0 | E18: =+B18+D18 -> 12000000 | H18: 3000000 | I18: =+H18 -> 3000000 | K18: =+E18-I18 -> 9000000
A19: 2.1.1.01.01.001.05 AUXILIO DE TRANSPORTE | B19: =SUM(B20:B22) -> 89760000 | C19: =SUM(C20:C22) -> 0 | D19: =SUM(D20:D22) -> 0 | E19: =SUM(E20:E22) -> 89760000 | F19: =SUM(F20:F22) -> 0 | G19: =SUM(G20:G22) -> 0 | H19: =SUM(H20:H22) -> 17114600 | I19: =SUM(I20:I22) -> 17114600 | K19: =SUM(K20:K22) -> 72645400 | L19: =SUM(L20:L22) -> 0 | M19: =SUM(M20:M22) -> 0
A20: 2.1.1.01.01.001.0501 Auxilio Transport Fun.Inirida | B20: 79200000 | C20: 0 | D20: 0 | E20: =+B20+D20 -> 79200000 | H20: 15023000 | I20: =+H20 -> 15023000 | K20: =+E20-I20 -> 64177000
A21: 2.1.1.01.01.001.0502 Auxilio Transport Fun.Bcominas | B21: 7920000 | C21: 0 | D21: 0 | E21: =+B21+D21 -> 7920000 | H21: 2091600 | I21: =+H21 -> 2091600 | K21: =+E21-I21 -> 5828400
A22: 2.1.1.01.01.001.0503 Auxilio Transp Fun San Felipe | B22: 2640000 | C22: 0 | D22: 0 | E22: =+B22+D22 -> 2640000 | H22: 0 | I22: =+H22 -> 0 | K22: =+E22-I22 -> 2640000
A23: 2.1.1.01.01.001.06 PRIMA DE SERVICIO | B23: =SUM(B24:B26) -> 126803560 | C23: =SUM(C24:C26) -> 0 | D23: =SUM(D24:D26) -> 0 | E23: =SUM(E24:E26) -> 126803560 | F23: =SUM(F24:F26) -> 0 | G23: =SUM(G24:G26) -> 0 | H23: =SUM(H24:H26) -> 666900 | I23: =SUM(I24:I26) -> 666900 | K23: =SUM(K24:K26) -> 126136660 | L23: =SUM(L24:L26) -> 0 | M23: =SUM(M24:M26) -> 0
A24: 2.1.1.01.01.001.0601 Prima de Servicios Inirida | B24: 109659360 | C24: 0 | D24: 0 | E24: =+B24+D24 -> 109659360 | H24: 666900 | I24: =+H24 -> 666900 | K24: =+E24-I24 -> 108992460
A25: 2.1.1.01.01.001.0602 Prima de Servicios Bcominas | B25: 15247000 | C25: 0 | D25: 0 | E25: =+B25+D25 -> 15247000 | H25: 0 | I25: =+H25 -> 0 | K25: =+E25-I25 -> 15247000
A26: 2.1.1.01.01.001.0603 Prima de Servicios San Felipe | B26: 1897200 | C26: 0 | D26: 0 | E26: =+B26+D26 -> 1897200 | H26: 0 | I26: =+H26 -> 0 | K26: =+E26-I26 -> 1897200
A27: 2.1.1.01.01.001.08 PRESTACIONES SOCIALES | B27: =+B28+B32 -> 1.4613123e+08 | C27: =+C28+C32 -> 0 | D27: =+D28+D32 -> 0 | E27: =+E28+E32 -> 1.4613123e+08 | F27: =+F28+F32 -> 0 | G27: =+G28+G32 -> 0 | H27: =+H28+H32 -> 4968096 | I27: =+I28+I32 -> 4968096 | K27: =+K28+K32 -> 1.4116314e+08 | L27: =+L28+L32 -> 0 | M27: =+M28+M32 -> 0
A28: 2.1.1.01.01.001.08.01 PRIMA DE NAVIDAD | B28: =SUM(B29:B31) -> 66284673 | C28: =SUM(C29:C31) -> 0 | D28: =SUM(D29:D31) -> 0 | E28: =SUM(E29:E31) -> 66284673 | F28: =SUM(F29:F31) -> 0 | G28: =SUM(G29:G31) -> 0 | H28: =SUM(H29:H31) -> 333450 | I28: =SUM(I29:I31) -> 333450 | K28: =SUM(K29:K31) -> 65951223 | L28: =SUM(L29:L31) -> 0 | M28: =SUM(M29:M31) -> 0
A29: 2.1.1.01.01.001.08.0101 Prima Navidad Inirida | B29: 57143072 | C29: 0 | D29: 0 | E29: =+B29+D29 -> 57143072 | H29: 333450 | I29: =+H29 -> 333450 | K29: =+E29-I29 -> 56809622
A30: 2.1.1.01.01.001.08.0102 Prima Navidad Bcominas | B30: 8153475.9 | C30: 0 | D30: 0 | E30: =+B30+D30 -> 8153475.9 | H30: 0 | I30: =+H30 -> 0 | K30: =+E30-I30 -> 8153475.9
A31: 2.1.1.01.01.001.08.0103 Prima Navidad San Felipe | B31: 988125 | C31: 0 | D31: 0 | E31: =+B31+D31 -> 988125 | H31: 0 | I31: =+H31 -> 0 | K31: =+E31-I31 -> 988125
A32: 2.1.1.01.01.001.08.02 PRIMA DE VACACIONES | B32: =SUM(B33:B35) -> 79846561 | C32: =SUM(C33:C35) -> 0 | D32: =SUM(D33:D35) -> 0 | E32: =SUM(E33:E35) -> 79846561 | F32: =SUM(F33:F35) -> 0 | G32: =SUM(G33:G35) -> 0 | H32: =SUM(H33:H35) -> 4634646 | I32: =SUM(I33:I35) -> 4634646 | K32: =SUM(K33:K35) -> 75211915 | L32: =SUM(L33:L35) -> 0 | M32: =SUM(M33:M35) -> 0
A33: 2.1.1.01.01.001.08.0201 Prima Vacaciones Inirida | B33: 70818928 | C33: 0 | D33: 0 | E33: =+B33+D33 -> 70818928 | H33: 3722667 | I33: =+H33 -> 3722667 | K33: =+E33-I33 -> 67096261
A34: 2.1.1.01.01.001.08.0202 Prima Vacaciones Bcominas | B34: 8131733.3 | C34: 0 | D34: 0 | E34: =+B34+D34 -> 8131733.3 | H34: 911979 | I34: =+H34 -> 911979 | K34: =+E34-I34 -> 7219754.3
A35: 2.1.1.01.01.001.08.0203 Prima Vacaciones San Felipe | B35: 895900 | C35: 0 | D35: 0 | E35: =+B35+D35 -> 895900 | H35: 0 | I35: =+H35 -> 0 | K35: =+E35-I35 -> 895900
A36: 2.1.1.01.02 CONTRIBUC INHERENTES A NOMINA | B36: =+B37+B41+B43+B47+B51 -> 5.0811739e+08 | C36: =+C37+C41+C43+C47+C51 -> 0 | D36: =+D37+D41+D43+D47+D51 -> 0 | E36: =+E37+E41+E43+E47+E51 -> 5.0811739e+08 | F36: =+F37+F41+F43+F47+F51 -> 0 | G36: =+G37+G41+G43+G47+G51 -> 0 | H36: =+H37+H41+H43+H47+H51 -> 82288134 | I36: =+I37+I41+I43+I47+I51 -> 82288134 | K36: =+K37+K41+K43+K47+K51 -> 4.2582926e+08 | L36: =+L37+L41+L43+L47+L51 -> 0 | M36: =+M37+M41+M43+M47+M51 -> 0
A37: 2.1.1.01.02.001 APOR SEGU SOCIAL EN PENSIONES | B37: =SUM(B38:B40) -> 2.006379e+08 | C37: =SUM(C38:C40) -> 0 | D37: =SUM(D38:D40) -> 0 | E37: =SUM(E38:E40) -> 2.006379e+08 | F37: =SUM(F38:F40) -> 0 | G37: =SUM(G38:G40) -> 0 | H37: =SUM(H38:H40) -> 31111064 | I37: =SUM(I38:I40) -> 31111064 | K37: =SUM(K38:K40) -> 1.6952683e+08 | L37: =SUM(L38:L40) -> 0 | M37: =SUM(M38:M40) -> 0
A38: 2.1.1.01.02.00101 Apor Pension Funcionar Inirida | B38: 173350608 | C38: 0 | D38: 0 | E38: =+B38+D38 -> 173350608 | H38: 26485756 | I38: =+H38 -> 26485756 | K38: =+E38-I38 -> 146864852
A39: 2.1.1.01.02.00102 Apor Pension Funciona Bcominas | B39: 24859392 | C39: 0 | D39: 0 | E39: =+B39+D39 -> 24859392 | H39: 4625308 | I39: =+H39 -> 4625308 | K39: =+E39-I39 -> 20234084
A40: 2.1.1.01.02.00103 Apor Pension Funcio San Felipe | B40: 2427897.6 | C40: 0 | D40: 0 | E40: =+B40+D40 -> 2427897.6 | H40: 0 | I40: =+H40 -> 0 | K40: =+E40-I40 -> 2427897.6
